BEGIN:VCALENDAR
VERSION:2.0
PRODID:-//Sonido Costeno - ECPv6.15.20//NONSGML v1.0//EN
CALSCALE:GREGORIAN
METHOD:PUBLISH
X-ORIGINAL-URL:https://sonidocosteno.com
X-WR-CALDESC:Events for Sonido Costeno
REFRESH-INTERVAL;VALUE=DURATION:PT1H
X-Robots-Tag:noindex
X-PUBLISHED-TTL:PT1H
BEGIN:VTIMEZONE
TZID:America/New_York
BEGIN:DAYLIGHT
TZOFFSETFROM:-0500
TZOFFSETTO:-0400
TZNAME:EDT
DTSTART:20230312T070000
END:DAYLIGHT
BEGIN:STANDARD
TZOFFSETFROM:-0400
TZOFFSETTO:-0500
TZNAME:EST
DTSTART:20231105T060000
END:STANDARD
BEGIN:DAYLIGHT
TZOFFSETFROM:-0500
TZOFFSETTO:-0400
TZNAME:EDT
DTSTART:20240310T070000
END:DAYLIGHT
BEGIN:STANDARD
TZOFFSETFROM:-0400
TZOFFSETTO:-0500
TZNAME:EST
DTSTART:20241103T060000
END:STANDARD
BEGIN:DAYLIGHT
TZOFFSETFROM:-0500
TZOFFSETTO:-0400
TZNAME:EDT
DTSTART:20250309T070000
END:DAYLIGHT
BEGIN:STANDARD
TZOFFSETFROM:-0400
TZOFFSETTO:-0500
TZNAME:EST
DTSTART:20251102T060000
END:STANDARD
END:VTIMEZONE
BEGIN:VEVENT
DTSTART;TZID=America/New_York:20240806T193000
DTEND;TZID=America/New_York:20240806T220000
DTSTAMP:20260425T070349
CREATED:20240718T131028Z
LAST-MODIFIED:20240718T131028Z
UID:3087-1722972600-1722981600@sonidocosteno.com
SUMMARY:The Django Jazz Club proudly presents Sonido Costeño Quintet
DESCRIPTION:
URL:https://sonidocosteno.com/event/the-django-jazz-club-proudly-presents-sonido-costeno-quintet/
LOCATION:Hotel Roxy\, 2 Avenue of The Americas\, NYC\, NY\, 10013\, United States
CATEGORIES:Events,NYC
END:VEVENT
END:VCALENDAR