BEGIN:VCALENDAR
VERSION:2.0
PRODID:-//Sonido Costeno - ECPv6.15.20//NONSGML v1.0//EN
CALSCALE:GREGORIAN
METHOD:PUBLISH
X-WR-CALNAME:Sonido Costeno
X-ORIGINAL-URL:https://sonidocosteno.com
X-WR-CALDESC:Events for Sonido Costeno
REFRESH-INTERVAL;VALUE=DURATION:PT1H
X-Robots-Tag:noindex
X-PUBLISHED-TTL:PT1H
BEGIN:VTIMEZONE
TZID:America/New_York
BEGIN:DAYLIGHT
TZOFFSETFROM:-0500
TZOFFSETTO:-0400
TZNAME:EDT
DTSTART:20240310T070000
END:DAYLIGHT
BEGIN:STANDARD
TZOFFSETFROM:-0400
TZOFFSETTO:-0500
TZNAME:EST
DTSTART:20241103T060000
END:STANDARD
BEGIN:DAYLIGHT
TZOFFSETFROM:-0500
TZOFFSETTO:-0400
TZNAME:EDT
DTSTART:20250309T070000
END:DAYLIGHT
BEGIN:STANDARD
TZOFFSETFROM:-0400
TZOFFSETTO:-0500
TZNAME:EST
DTSTART:20251102T060000
END:STANDARD
BEGIN:DAYLIGHT
TZOFFSETFROM:-0500
TZOFFSETTO:-0400
TZNAME:EDT
DTSTART:20260308T070000
END:DAYLIGHT
BEGIN:STANDARD
TZOFFSETFROM:-0400
TZOFFSETTO:-0500
TZNAME:EST
DTSTART:20261101T060000
END:STANDARD
END:VTIMEZONE
BEGIN:VEVENT
DTSTART;TZID=America/New_York:20250420T130000
DTEND;TZID=America/New_York:20250420T160000
DTSTAMP:20260425T091852
CREATED:20250327T023935Z
LAST-MODIFIED:20250327T024558Z
UID:3361-1745154000-1745164800@sonidocosteno.com
SUMMARY:Sunday Brunch@Sahadi's IC with JuanMa OMB
DESCRIPTION:Screenshot
URL:https://sonidocosteno.com/event/sunday-brunchsahadis-ic-with-juanma-omb/
LOCATION:Sahadis Industry City\, 34 35th St\, Brooklyn\, NY\, 11232\, United States
CATEGORIES:Brooklyn,Events
END:VEVENT
END:VCALENDAR